BEGIN:VCALENDAR
VERSION:2.0
PRODID:-//Plone.org//NONSGML plone.app.event//EN
X-WR-TIMEZONE:Europe/Berlin
BEGIN:VEVENT
SUMMARY:FLAGGE ZEIGEN
DTSTART;TZID=Etc/GMT+2;VALUE=DATE-TIME:20190531T200000
DTEND;TZID=Etc/GMT+2;VALUE=DATE-TIME:20190616T210000
DTSTAMP;VALUE=DATE-TIME:20260424T153443Z
UID:b33c59b191534a3aabb9c6836a10fcdf@www.mirkaraito.com
CONTACT:https://shmh.de/de/die-kunst-altonale-zu-gast-im-altonaer-museum
CREATED;VALUE=DATE-TIME:20201113T163304Z
DESCRIPTION:Gruppenausstellung in Altonaer Museum / KUNST ALTONALE 2019
LAST-MODIFIED;VALUE=DATE-TIME:20201116T142203Z
LOCATION:Altona Museum\, Museumstraße 23\, 22765 Hamburg
URL:https://www.mirkaraito.com/news/flagge-zeigen
END:VEVENT
END:VCALENDAR
